BEGIN:VCALENDAR
VERSION:2.0
PRODID:-//hacksw/handcal//NONSGML v1.0//EN
CALSCALE:GREGORIAN
BEGIN:VEVENT
DTEND:20260913T013000Z
UID:69e65207bb599
DTSTAMP:20260420T161919Z
SUMMARY:Murder on the Mountain Dinner Theatre
DESCRIPTION:https://tecumsehdrama.com/event/murder-mountain/
LOCATION:Sugarloaf Mountain Amphitheatre, 5968 Marietta Road, Chillicothe, OH 45601
URL;VALUE=URI:https://tecumsehdrama.com/event/murder-mountain/
DTSTART:20260912T220000Z
END:VEVENT
END:VCALENDAR
