BEGIN:VCALENDAR
VERSION:2.0
PRODID:-//hacksw/handcal//NONSGML v1.0//EN
CALSCALE:GREGORIAN
BEGIN:VEVENT
DTEND:20260802T020000Z
UID:69e7911cf420c
DTSTAMP:20260421T150044Z
SUMMARY:Tecumseh!
DESCRIPTION:https://tecumsehdrama.com/event/tecumseh/
LOCATION:Sugarloaf Mountain Amphitheatre, 5968 Marietta Road, Chillicothe, OH 45601
URL;VALUE=URI:https://tecumsehdrama.com/event/tecumseh/
DTSTART:20260802T000000Z
END:VEVENT
END:VCALENDAR
