BEGIN:VCALENDAR
VERSION:2.0
PRODID:-//hacksw/handcal//NONSGML v1.0//EN
CALSCALE:GREGORIAN
BEGIN:VEVENT
DTEND:20260612T020000Z
UID:69e791cf9c68d
DTSTAMP:20260421T150343Z
SUMMARY:Tecumseh!
DESCRIPTION:https://tecumsehdrama.com/event/tecumseh/
LOCATION:Sugarloaf Mountain Amphitheatre, 5968 Marietta Road, Chillicothe, OH 45601
URL;VALUE=URI:https://tecumsehdrama.com/event/tecumseh/
DTSTART:20260612T000000Z
END:VEVENT
END:VCALENDAR
