BEGIN:VCALENDAR
VERSION:2.0
PRODID:-//hacksw/handcal//NONSGML v1.0//EN
CALSCALE:GREGORIAN
BEGIN:VEVENT
DTEND:20260704T023000Z
UID:69e6506a1fb16
DTSTAMP:20260420T161226Z
SUMMARY:Military Appreciation Night
DESCRIPTION:https://tecumsehdrama.com/event/military-appreciation-night/
LOCATION:Sugarloaf Mountain Amphitheatre, 5968 Marietta Road, Chillicothe, OH 45601
URL;VALUE=URI:https://tecumsehdrama.com/event/military-appreciation-night/
DTSTART:20260703T220000Z
END:VEVENT
END:VCALENDAR
