BEGIN:VCALENDAR
VERSION:2.0
PRODID:-//hacksw/handcal//NONSGML v1.0//EN
CALSCALE:GREGORIAN
BEGIN:VEVENT
DTEND:20261115T020000Z
UID:69e665d572343
DTSTAMP:20260420T174349Z
SUMMARY:First Capital Bourbon Festival
DESCRIPTION:https://tecumsehdrama.com/event/first-capital-bourbon-festival/
LOCATION:Christopher Conference Center, 20 North Plaza Blvd., Chillicothe, OH 45601
URL;VALUE=URI:https://tecumsehdrama.com/event/first-capital-bourbon-festival/
DTSTART:20261114T230000Z
END:VEVENT
END:VCALENDAR
