BEGIN:VCALENDAR
VERSION:2.0
PRODID:-//hacksw/handcal//NONSGML v1.0//EN
CALSCALE:GREGORIAN
BEGIN:VEVENT
DTEND:20270328T013000Z
UID:69e6500464571
DTSTAMP:20260420T161044Z
SUMMARY:3rd Annual Founders Dinner
DESCRIPTION:https://tecumsehdrama.com/event/founders_dinner/
LOCATION:Christopher Conference Center, 20 North Plaza Blvd., Chillicothe, OH 45601
URL;VALUE=URI:https://tecumsehdrama.com/event/founders_dinner/
DTSTART:20270327T220000Z
END:VEVENT
END:VCALENDAR
